BEGIN:VCALENDAR
VERSION:2.0
PRODID:-//ERHA - ECPv6.15.20//NONSGML v1.0//EN
CALSCALE:GREGORIAN
METHOD:PUBLISH
X-ORIGINAL-URL:https://erha.ca
X-WR-CALDESC:Events for ERHA
REFRESH-INTERVAL;VALUE=DURATION:PT1H
X-Robots-Tag:noindex
X-PUBLISHED-TTL:PT1H
BEGIN:VTIMEZONE
TZID:America/Vancouver
BEGIN:DAYLIGHT
TZOFFSETFROM:-0800
TZOFFSETTO:-0700
TZNAME:PDT
DTSTART:20250309T100000
END:DAYLIGHT
BEGIN:STANDARD
TZOFFSETFROM:-0700
TZOFFSETTO:-0800
TZNAME:PST
DTSTART:20251102T090000
END:STANDARD
BEGIN:DAYLIGHT
TZOFFSETFROM:-0800
TZOFFSETTO:-0700
TZNAME:PDT
DTSTART:20260308T100000
END:DAYLIGHT
BEGIN:STANDARD
TZOFFSETFROM:-0700
TZOFFSETTO:-0800
TZNAME:PST
DTSTART:20261101T090000
END:STANDARD
BEGIN:DAYLIGHT
TZOFFSETFROM:-0800
TZOFFSETTO:-0700
TZNAME:PDT
DTSTART:20270314T100000
END:DAYLIGHT
BEGIN:STANDARD
TZOFFSETFROM:-0700
TZOFFSETTO:-0800
TZNAME:PST
DTSTART:20271107T090000
END:STANDARD
END:VTIMEZONE
BEGIN:VEVENT
DTSTART;TZID=America/Vancouver:20260305T000000
DTEND;TZID=America/Vancouver:20260305T235959
DTSTAMP:20260421T005827
CREATED:20260301T234335Z
LAST-MODIFIED:20260301T234335Z
UID:6601-1772668800-1772755199@erha.ca
SUMMARY:SOFIA'S DESIGNS
DESCRIPTION:
URL:https://erha.ca/event/sofias-designs/
LOCATION:Marketplace\, 475 Guildford Way\, Port Moody\, BC\, V3H3W9\, Canada
END:VEVENT
BEGIN:VEVENT
DTSTART;TZID=America/Vancouver:20260305T100000
DTEND;TZID=America/Vancouver:20260305T160000
DTSTAMP:20260421T005827
CREATED:20260302T000519Z
LAST-MODIFIED:20260302T000519Z
UID:6647-1772704800-1772726400@erha.ca
SUMMARY:Thrift Shop - Winter Coats and Winter Boots $5.00
DESCRIPTION:
URL:https://erha.ca/event/thrift-shop-winter-coats-and-winter-boots-5-00-5/
LOCATION:Thrift Store\, 2811B Shaughnessy St\, Port Coquitlam\, BC\, V3C3H1\, Canada
END:VEVENT
END:VCALENDAR