BEGIN:VCALENDAR
VERSION:2.0
PRODID:-//ERHA - ECPv6.15.20//NONSGML v1.0//EN
CALSCALE:GREGORIAN
METHOD:PUBLISH
X-ORIGINAL-URL:https://erha.ca
X-WR-CALDESC:Events for ERHA
REFRESH-INTERVAL;VALUE=DURATION:PT1H
X-Robots-Tag:noindex
X-PUBLISHED-TTL:PT1H
BEGIN:VTIMEZONE
TZID:America/Vancouver
BEGIN:DAYLIGHT
TZOFFSETFROM:-0800
TZOFFSETTO:-0700
TZNAME:PDT
DTSTART:20250309T100000
END:DAYLIGHT
BEGIN:STANDARD
TZOFFSETFROM:-0700
TZOFFSETTO:-0800
TZNAME:PST
DTSTART:20251102T090000
END:STANDARD
BEGIN:DAYLIGHT
TZOFFSETFROM:-0800
TZOFFSETTO:-0700
TZNAME:PDT
DTSTART:20260308T100000
END:DAYLIGHT
BEGIN:STANDARD
TZOFFSETFROM:-0700
TZOFFSETTO:-0800
TZNAME:PST
DTSTART:20261101T090000
END:STANDARD
BEGIN:DAYLIGHT
TZOFFSETFROM:-0800
TZOFFSETTO:-0700
TZNAME:PDT
DTSTART:20270314T100000
END:DAYLIGHT
BEGIN:STANDARD
TZOFFSETFROM:-0700
TZOFFSETTO:-0800
TZNAME:PST
DTSTART:20271107T090000
END:STANDARD
END:VTIMEZONE
BEGIN:VEVENT
DTSTART;TZID=America/Vancouver:20260225T000000
DTEND;TZID=America/Vancouver:20260225T235959
DTSTAMP:20260421T005938
CREATED:20260202T021425Z
LAST-MODIFIED:20260202T021425Z
UID:6558-1771977600-1772063999@erha.ca
SUMMARY:SIMPLE LOTUS DESIGNS
DESCRIPTION:
URL:https://erha.ca/event/simple-lotus-designs-2/
LOCATION:Marketplace\, 475 Guildford Way\, Port Moody\, BC\, V3H3W9\, Canada
END:VEVENT
BEGIN:VEVENT
DTSTART;TZID=America/Vancouver:20260225T100000
DTEND;TZID=America/Vancouver:20260225T160000
DTSTAMP:20260421T005938
CREATED:20260131T011653Z
LAST-MODIFIED:20260131T011653Z
UID:6520-1772013600-1772035200@erha.ca
SUMMARY:Thrift Shop Celebrating 50 years for the Auxiliary
DESCRIPTION:50% off Store wide on everything! \nCome in for coffee and cake
URL:https://erha.ca/event/thrift-shop-celebrating-50-years-for-the-auxiliary/
LOCATION:Thrift Store\, 2811B Shaughnessy St\, Port Coquitlam\, BC\, V3C3H1\, Canada
END:VEVENT
END:VCALENDAR