BEGIN:VCALENDAR
VERSION:2.0
PRODID:-//ERHA - ECPv6.15.20//NONSGML v1.0//EN
CALSCALE:GREGORIAN
METHOD:PUBLISH
X-WR-CALNAME:ERHA
X-ORIGINAL-URL:https://erha.ca
X-WR-CALDESC:Events for ERHA
REFRESH-INTERVAL;VALUE=DURATION:PT1H
X-Robots-Tag:noindex
X-PUBLISHED-TTL:PT1H
BEGIN:VTIMEZONE
TZID:America/Vancouver
BEGIN:DAYLIGHT
TZOFFSETFROM:-0800
TZOFFSETTO:-0700
TZNAME:PDT
DTSTART:20250309T100000
END:DAYLIGHT
BEGIN:STANDARD
TZOFFSETFROM:-0700
TZOFFSETTO:-0800
TZNAME:PST
DTSTART:20251102T090000
END:STANDARD
BEGIN:DAYLIGHT
TZOFFSETFROM:-0800
TZOFFSETTO:-0700
TZNAME:PDT
DTSTART:20260308T100000
END:DAYLIGHT
BEGIN:STANDARD
TZOFFSETFROM:-0700
TZOFFSETTO:-0800
TZNAME:PST
DTSTART:20261101T090000
END:STANDARD
BEGIN:DAYLIGHT
TZOFFSETFROM:-0800
TZOFFSETTO:-0700
TZNAME:PDT
DTSTART:20270314T100000
END:DAYLIGHT
BEGIN:STANDARD
TZOFFSETFROM:-0700
TZOFFSETTO:-0800
TZNAME:PST
DTSTART:20271107T090000
END:STANDARD
END:VTIMEZONE
BEGIN:VEVENT
DTSTART;TZID=America/Vancouver:20260103T100000
DTEND;TZID=America/Vancouver:20260103T160000
DTSTAMP:20260421T005446
CREATED:20251222T190747Z
LAST-MODIFIED:20251222T190747Z
UID:6445-1767434400-1767456000@erha.ca
SUMMARY:Thrift Shop - Fill a basket Sale
DESCRIPTION:Fill a basket with clothing for just $15.
URL:https://erha.ca/event/thrift-shop-fill-a-basket-sale-3/
LOCATION:Thrift Store\, 2811B Shaughnessy St\, Port Coquitlam\, BC\, V3C3H1\, Canada
END:VEVENT
END:VCALENDAR